BEGIN:VCALENDAR
VERSION:2.0
PRODID:-//HIMSS Virginia Chapter - ECPv6.15.20//NONSGML v1.0//EN
CALSCALE:GREGORIAN
METHOD:PUBLISH
X-WR-CALNAME:HIMSS Virginia Chapter
X-ORIGINAL-URL:https://vahimss.org
X-WR-CALDESC:Events for HIMSS Virginia Chapter
REFRESH-INTERVAL;VALUE=DURATION:PT1H
X-Robots-Tag:noindex
X-PUBLISHED-TTL:PT1H
BEGIN:VTIMEZONE
TZID:America/New_York
BEGIN:DAYLIGHT
TZOFFSETFROM:-0500
TZOFFSETTO:-0400
TZNAME:EDT
DTSTART:20230312T070000
END:DAYLIGHT
BEGIN:STANDARD
TZOFFSETFROM:-0400
TZOFFSETTO:-0500
TZNAME:EST
DTSTART:20231105T060000
END:STANDARD
BEGIN:DAYLIGHT
TZOFFSETFROM:-0500
TZOFFSETTO:-0400
TZNAME:EDT
DTSTART:20240310T070000
END:DAYLIGHT
BEGIN:STANDARD
TZOFFSETFROM:-0400
TZOFFSETTO:-0500
TZNAME:EST
DTSTART:20241103T060000
END:STANDARD
BEGIN:DAYLIGHT
TZOFFSETFROM:-0500
TZOFFSETTO:-0400
TZNAME:EDT
DTSTART:20250309T070000
END:DAYLIGHT
BEGIN:STANDARD
TZOFFSETFROM:-0400
TZOFFSETTO:-0500
TZNAME:EST
DTSTART:20251102T060000
END:STANDARD
END:VTIMEZONE
BEGIN:VEVENT
DTSTART;TZID=America/New_York:20241014T120000
DTEND;TZID=America/New_York:20241014T170000
DTSTAMP:20260423T152308
CREATED:20240110T164119Z
LAST-MODIFIED:20240724T192747Z
UID:1480-1728907200-1728925200@vahimss.org
SUMMARY:2024 Annual Fall Conference Charity Golf Tournament
DESCRIPTION:REGISTER HERE
URL:https://vahimss.org/event/2024-annual-fall-conference-charity-golf-tournament/
LOCATION:Kingsmill Resort\, 1010 Kingsmill Rd\, Williamsburg\, VA\, 23185\, United States
ATTACH;FMTTYPE=image/png:https://vahimss.org/wp-content/uploads/2024/01/VA-HIMSS-Golf-Scholarship-b.png
END:VEVENT
END:VCALENDAR