BEGIN:VCALENDAR
VERSION:2.0
PRODID:-//HIMSS Virginia Chapter - ECPv6.15.20//NONSGML v1.0//EN
CALSCALE:GREGORIAN
METHOD:PUBLISH
X-WR-CALNAME:HIMSS Virginia Chapter
X-ORIGINAL-URL:https://vahimss.org
X-WR-CALDESC:Events for HIMSS Virginia Chapter
REFRESH-INTERVAL;VALUE=DURATION:PT1H
X-Robots-Tag:noindex
X-PUBLISHED-TTL:PT1H
BEGIN:VTIMEZONE
TZID:America/New_York
BEGIN:DAYLIGHT
TZOFFSETFROM:-0500
TZOFFSETTO:-0400
TZNAME:EDT
DTSTART:20210314T070000
END:DAYLIGHT
BEGIN:STANDARD
TZOFFSETFROM:-0400
TZOFFSETTO:-0500
TZNAME:EST
DTSTART:20211107T060000
END:STANDARD
BEGIN:DAYLIGHT
TZOFFSETFROM:-0500
TZOFFSETTO:-0400
TZNAME:EDT
DTSTART:20220313T070000
END:DAYLIGHT
BEGIN:STANDARD
TZOFFSETFROM:-0400
TZOFFSETTO:-0500
TZNAME:EST
DTSTART:20221106T060000
END:STANDARD
BEGIN:DAYLIGHT
TZOFFSETFROM:-0500
TZOFFSETTO:-0400
TZNAME:EDT
DTSTART:20230312T070000
END:DAYLIGHT
BEGIN:STANDARD
TZOFFSETFROM:-0400
TZOFFSETTO:-0500
TZNAME:EST
DTSTART:20231105T060000
END:STANDARD
END:VTIMEZONE
BEGIN:VEVENT
DTSTART;TZID=America/New_York:20220926T090000
DTEND;TZID=America/New_York:20220928T130000
DTSTAMP:20260420T093523
CREATED:20220613T194616Z
LAST-MODIFIED:20220829T152406Z
UID:10000022-1664182800-1664370000@vahimss.org
SUMMARY:2022 Annual Fall Conference
DESCRIPTION:Join us at the 2022 Virginia HIMSS Fall Conference\, designed around the theme Connect\, Collaborate\, Create. This outcomes-focused event will be filled with relevant insight and inspiration to incorporate into your everyday work.
URL:https://vahimss.org/event/annual-fall-conference/
LOCATION:Kingsmill Resort\, 1010 Kingsmill Rd\, Williamsburg\, VA\, 23185\, United States
CATEGORIES:Featured
ATTACH;FMTTYPE=image/png:https://vahimss.org/wp-content/uploads/2022/06/2022-Fall-Conference-September-26-28-Williamsburg-VA.png
END:VEVENT
END:VCALENDAR