BEGIN:VCALENDAR
VERSION:2.0
PRODID:-//HIMSS Virginia Chapter - ECPv6.15.20//NONSGML v1.0//EN
CALSCALE:GREGORIAN
METHOD:PUBLISH
X-WR-CALNAME:HIMSS Virginia Chapter
X-ORIGINAL-URL:https://vahimss.org
X-WR-CALDESC:Events for HIMSS Virginia Chapter
REFRESH-INTERVAL;VALUE=DURATION:PT1H
X-Robots-Tag:noindex
X-PUBLISHED-TTL:PT1H
BEGIN:VTIMEZONE
TZID:America/New_York
BEGIN:DAYLIGHT
TZOFFSETFROM:-0500
TZOFFSETTO:-0400
TZNAME:EDT
DTSTART:20250309T070000
END:DAYLIGHT
BEGIN:STANDARD
TZOFFSETFROM:-0400
TZOFFSETTO:-0500
TZNAME:EST
DTSTART:20251102T060000
END:STANDARD
BEGIN:DAYLIGHT
TZOFFSETFROM:-0500
TZOFFSETTO:-0400
TZNAME:EDT
DTSTART:20260308T070000
END:DAYLIGHT
BEGIN:STANDARD
TZOFFSETFROM:-0400
TZOFFSETTO:-0500
TZNAME:EST
DTSTART:20261101T060000
END:STANDARD
BEGIN:DAYLIGHT
TZOFFSETFROM:-0500
TZOFFSETTO:-0400
TZNAME:EDT
DTSTART:20270314T070000
END:DAYLIGHT
BEGIN:STANDARD
TZOFFSETFROM:-0400
TZOFFSETTO:-0500
TZNAME:EST
DTSTART:20271107T060000
END:STANDARD
END:VTIMEZONE
BEGIN:VEVENT
DTSTART;TZID=America/New_York:20260625T100000
DTEND;TZID=America/New_York:20260625T170000
DTSTAMP:20260422T115756
CREATED:20251216T163451Z
LAST-MODIFIED:20260402T191057Z
UID:10000045-1782381600-1782406800@vahimss.org
SUMMARY:Cybersecurity & AI Summit 2026 - Securing Tomorrow: AI-Powered Defense
DESCRIPTION:The Cybersecurity & AI Summit 2026 brings together global leaders\, innovators\, and practitioners at the cutting edge of digital defense and intelligent technologies. This premier event explores the rapidly evolving intersection of artificial intelligence\, machine learning\, and cybersecurity\, offering a deep dive into how organizations can harness advanced automation while defending against increasingly sophisticated cyber threats.
URL:https://vahimss.org/event/cybersecurity-and-ai-event/
LOCATION:Boar’s Head\, 200 Ednam Drive\, Charlottesville\, VA\, 22903
ATTACH;FMTTYPE=image/png:https://vahimss.org/wp-content/uploads/2025/12/with-sponsor-Final.png
END:VEVENT
BEGIN:VEVENT
DTSTART;TZID=America/New_York:20261113T080000
DTEND;TZID=America/New_York:20261113T170000
DTSTAMP:20260422T115756
CREATED:20251216T165501Z
LAST-MODIFIED:20251216T165501Z
UID:10000046-1794556800-1794589200@vahimss.org
SUMMARY:Transforming Practice Through Partnership "The Nursing Voice in Informatics"
DESCRIPTION:More details coming soon!
URL:https://vahimss.org/event/transforming-practice-through-partnership-the-nursing-voice-in-informatics/
LOCATION:Lewis Ginter Botanical Gardens\, 1800 Lakeside Ave\, Richmond\, VA\, 23228\, United States
ATTACH;FMTTYPE=image/png:https://vahimss.org/wp-content/uploads/2025/12/2026-Data-and-Analytics-Symposium-Imformatics.png
END:VEVENT
END:VCALENDAR