BEGIN:VCALENDAR
VERSION:2.0
PRODID:-//HIMSS Virginia Chapter - ECPv6.15.20//NONSGML v1.0//EN
CALSCALE:GREGORIAN
METHOD:PUBLISH
X-WR-CALNAME:HIMSS Virginia Chapter
X-ORIGINAL-URL:https://vahimss.org
X-WR-CALDESC:Events for HIMSS Virginia Chapter
REFRESH-INTERVAL;VALUE=DURATION:PT1H
X-Robots-Tag:noindex
X-PUBLISHED-TTL:PT1H
BEGIN:VTIMEZONE
TZID:America/New_York
BEGIN:DAYLIGHT
TZOFFSETFROM:-0500
TZOFFSETTO:-0400
TZNAME:EDT
DTSTART:20250309T070000
END:DAYLIGHT
BEGIN:STANDARD
TZOFFSETFROM:-0400
TZOFFSETTO:-0500
TZNAME:EST
DTSTART:20251102T060000
END:STANDARD
BEGIN:DAYLIGHT
TZOFFSETFROM:-0500
TZOFFSETTO:-0400
TZNAME:EDT
DTSTART:20260308T070000
END:DAYLIGHT
BEGIN:STANDARD
TZOFFSETFROM:-0400
TZOFFSETTO:-0500
TZNAME:EST
DTSTART:20261101T060000
END:STANDARD
BEGIN:DAYLIGHT
TZOFFSETFROM:-0500
TZOFFSETTO:-0400
TZNAME:EDT
DTSTART:20270314T070000
END:DAYLIGHT
BEGIN:STANDARD
TZOFFSETFROM:-0400
TZOFFSETTO:-0500
TZNAME:EST
DTSTART:20271107T060000
END:STANDARD
END:VTIMEZONE
BEGIN:VEVENT
DTSTART;TZID=America/New_York:20260420T103000
DTEND;TZID=America/New_York:20260420T160000
DTSTAMP:20260419T233845
CREATED:20251020T142024Z
LAST-MODIFIED:20260407T212210Z
UID:10000042-1776681000-1776700800@vahimss.org
SUMMARY:2026 Data & Analytics Symposium
DESCRIPTION:
URL:https://vahimss.org/event/2026-data-analytics-symposium/
LOCATION:Hotel 24\, 24 S Market St\, Staunton\, 24401
ATTACH;FMTTYPE=image/png:https://vahimss.org/wp-content/uploads/2025/10/Black-Minimalist-Modern-AI-Robot-Presentation.png
END:VEVENT
END:VCALENDAR