BEGIN:VCALENDAR
VERSION:2.0
PRODID:-//HIMSS Virginia Chapter - ECPv6.15.20//NONSGML v1.0//EN
CALSCALE:GREGORIAN
METHOD:PUBLISH
X-WR-CALNAME:HIMSS Virginia Chapter
X-ORIGINAL-URL:https://vahimss.org
X-WR-CALDESC:Events for HIMSS Virginia Chapter
REFRESH-INTERVAL;VALUE=DURATION:PT1H
X-Robots-Tag:noindex
X-PUBLISHED-TTL:PT1H
BEGIN:VTIMEZONE
TZID:America/New_York
BEGIN:DAYLIGHT
TZOFFSETFROM:-0500
TZOFFSETTO:-0400
TZNAME:EDT
DTSTART:20210314T070000
END:DAYLIGHT
BEGIN:STANDARD
TZOFFSETFROM:-0400
TZOFFSETTO:-0500
TZNAME:EST
DTSTART:20211107T060000
END:STANDARD
BEGIN:DAYLIGHT
TZOFFSETFROM:-0500
TZOFFSETTO:-0400
TZNAME:EDT
DTSTART:20220313T070000
END:DAYLIGHT
BEGIN:STANDARD
TZOFFSETFROM:-0400
TZOFFSETTO:-0500
TZNAME:EST
DTSTART:20221106T060000
END:STANDARD
BEGIN:DAYLIGHT
TZOFFSETFROM:-0500
TZOFFSETTO:-0400
TZNAME:EDT
DTSTART:20230312T070000
END:DAYLIGHT
BEGIN:STANDARD
TZOFFSETFROM:-0400
TZOFFSETTO:-0500
TZNAME:EST
DTSTART:20231105T060000
END:STANDARD
END:VTIMEZONE
BEGIN:VEVENT
DTSTART;VALUE=DATE:20220313
DTEND;VALUE=DATE:20220319
DTSTAMP:20260420T144945
CREATED:20211217T195440Z
LAST-MODIFIED:20220221T181752Z
UID:10000015-1647201600-1647633599@vahimss.org
SUMMARY:HIMSS Global Conference
DESCRIPTION:HIMSS Global Conference\nOrlando – Orange County Convention Center (West Building)\nRe Imagine Health – Reunite at healthcare’s most influential event
URL:https://vahimss.org/event/himss-global-conference/
LOCATION:Orange County Convention Center – West Concourse\, 9800 International Dr\, Orlando\, 32819\, United States
CATEGORIES:Featured
ATTACH;FMTTYPE=image/png:https://vahimss.org/wp-content/uploads/2021/12/himss-global-conf2022.png
END:VEVENT
END:VCALENDAR